BEGIN:VCALENDAR
VERSION:2.0
PRODID:-//Portale Ufficiale del Turismo Comune di Chiavari - ECPv6.14.2//NONSGML v1.0//EN
CALSCALE:GREGORIAN
METHOD:PUBLISH
X-WR-CALNAME:Portale Ufficiale del Turismo Comune di Chiavari
X-ORIGINAL-URL:https://www.chiavariturismo.it
X-WR-CALDESC:Eventi per Portale Ufficiale del Turismo Comune di Chiavari
REFRESH-INTERVAL;VALUE=DURATION:PT1H
X-Robots-Tag:noindex
X-PUBLISHED-TTL:PT1H
BEGIN:VTIMEZONE
TZID:Europe/Rome
BEGIN:DAYLIGHT
TZOFFSETFROM:+0100
TZOFFSETTO:+0200
TZNAME:CEST
DTSTART:20240331T010000
END:DAYLIGHT
BEGIN:STANDARD
TZOFFSETFROM:+0200
TZOFFSETTO:+0100
TZNAME:CET
DTSTART:20241027T010000
END:STANDARD
END:VTIMEZONE
BEGIN:VEVENT
DTSTART;TZID=Europe/Rome:20240601T080000
DTEND;TZID=Europe/Rome:20240622T170000
DTSTAMP:20260421T070058
CREATED:20240604T115020Z
LAST-MODIFIED:20240604T115020Z
UID:32286-1717228800-1719075600@www.chiavariturismo.it
SUMMARY:Visite Guidate di Chiavari
DESCRIPTION:Quattro visite guidate gratuite organizzate dall’Ufficio Iat del Comune di Chiavari.\n\n1 Giugno ore 9.30 – Visita della Città\n\n8 Giugno ore 9.30 – Chiavari Medioevale\n\n15 Giugno ore 9.30 – Le chiese di Chiavari\n\n22 Giugno ore 9.30 – Chiavari tra 1800 e 1900\n\nPrenotazione obbligatoria al numero 0185 365400 oppure via mail a iat@comune.chiavari.ge.it
URL:https://www.chiavariturismo.it/event/visite-guidate-di-chiavari/
LOCATION:Chiavari
CATEGORIES:Visite guidate
ATTACH;FMTTYPE=image/png:https://www.chiavariturismo.it/wp-content/uploads/2024/06/VISITE-GUIDATE-IAT-GIUGNO-VOLANTINO.png
END:VEVENT
BEGIN:VEVENT
DTSTART;TZID=Europe/Rome:20240608T093000
DTEND;TZID=Europe/Rome:20240608T170000
DTSTAMP:20260421T070058
CREATED:20240604T115620Z
LAST-MODIFIED:20240604T115620Z
UID:32293-1717839000-1717866000@www.chiavariturismo.it
SUMMARY:Visite Guidate di Chiavari
DESCRIPTION:Quattro visite guidate gratuite organizzate dall’Ufficio Iat del Comune di Chiavari.\n\n8 Giugno ore 9.30 – Chiavari Medioevale\n\n15 Giugno ore 9.30 – Le chiese di Chiavari\n\n22 Giugno ore 9.30 – Chiavari tra 1800 e 1900\n\nPrenotazione obbligatoria al numero 0185 365400 oppure via mail a iat@comune.chiavari.ge.it
URL:https://www.chiavariturismo.it/event/visite-guidate-di-chiavari-2/
LOCATION:Chiavari
CATEGORIES:Visite guidate
ATTACH;FMTTYPE=image/png:https://www.chiavariturismo.it/wp-content/uploads/2024/06/VISITE-GUIDATE-IAT-GIUGNO-VOLANTINO.png
END:VEVENT
BEGIN:VEVENT
DTSTART;TZID=Europe/Rome:20240615T093000
DTEND;TZID=Europe/Rome:20240615T170000
DTSTAMP:20260421T070058
CREATED:20240604T115743Z
LAST-MODIFIED:20240604T115743Z
UID:32295-1718443800-1718470800@www.chiavariturismo.it
SUMMARY:Visite Guidate di Chiavari
DESCRIPTION:Quattro visite guidate gratuite organizzate dall’Ufficio Iat del Comune di Chiavari.\n\n15 Giugno ore 9.30 – Le chiese di Chiavari\n\n22 Giugno ore 9.30 – Chiavari tra 1800 e 1900\n\nPrenotazione obbligatoria al numero 0185 365400 oppure via mail a iat@comune.chiavari.ge.it
URL:https://www.chiavariturismo.it/event/visite-guidate-di-chiavari-3/
LOCATION:Chiavari
CATEGORIES:Visite guidate
ATTACH;FMTTYPE=image/png:https://www.chiavariturismo.it/wp-content/uploads/2024/06/VISITE-GUIDATE-IAT-GIUGNO-VOLANTINO.png
END:VEVENT
BEGIN:VEVENT
DTSTART;TZID=Europe/Rome:20240618T080000
DTEND;TZID=Europe/Rome:20240929T170000
DTSTAMP:20260421T070058
CREATED:20240618T132403Z
LAST-MODIFIED:20240618T132502Z
UID:32316-1718697600-1727629200@www.chiavariturismo.it
SUMMARY:Estate 2024. Brochure eventi.
DESCRIPTION:Estate 2024 a Chiavari. Un calendario degli eventi estivi ricco e variegato che animerà la città dei portici per tutta la stagione. Diverse le proposte tra arte e musica\, tradizione e magia\, sport e divertimento. Ad organizzare\, e coordinare\, le manifestazioni l’assessorato alla Promozione della città e l’assessorato alla Cultura.\n\n 
URL:https://www.chiavariturismo.it/event/estate-2024-brochure-eventi/
LOCATION:Chiavari
CATEGORIES:Concerti,Divertimento,Eventi per bambini,Fiere/Mercatini,MOSTRA,Teatro,Visite guidate
ATTACH;FMTTYPE=image/png:https://www.chiavariturismo.it/wp-content/uploads/2024/06/Screenshot-2024-06-18-alle-15.23.17.png
END:VEVENT
BEGIN:VEVENT
DTSTART;TZID=Europe/Rome:20240622T093000
DTEND;TZID=Europe/Rome:20240622T170000
DTSTAMP:20260421T070058
CREATED:20240604T115833Z
LAST-MODIFIED:20240604T115833Z
UID:32297-1719048600-1719075600@www.chiavariturismo.it
SUMMARY:Visite Guidate di Chiavari
DESCRIPTION:Quattro visite guidate gratuite organizzate dall’Ufficio Iat del Comune di Chiavari.\n\n22 Giugno ore 9.30 – Chiavari tra 1800 e 1900\n\nPrenotazione obbligatoria al numero 0185 365400 oppure via mail a iat@comune.chiavari.ge.it
URL:https://www.chiavariturismo.it/event/visite-guidate-di-chiavari-4/
LOCATION:Chiavari
CATEGORIES:Visite guidate
ATTACH;FMTTYPE=image/png:https://www.chiavariturismo.it/wp-content/uploads/2024/06/VISITE-GUIDATE-IAT-GIUGNO-VOLANTINO.png
END:VEVENT
END:VCALENDAR