BEGIN:VCALENDAR
VERSION:2.0
PRODID:-//Portale Ufficiale del Turismo Comune di Chiavari - ECPv6.14.2//NONSGML v1.0//EN
CALSCALE:GREGORIAN
METHOD:PUBLISH
X-ORIGINAL-URL:https://www.chiavariturismo.it
X-WR-CALDESC:Eventi per Portale Ufficiale del Turismo Comune di Chiavari
REFRESH-INTERVAL;VALUE=DURATION:PT1H
X-Robots-Tag:noindex
X-PUBLISHED-TTL:PT1H
BEGIN:VTIMEZONE
TZID:Europe/Rome
BEGIN:DAYLIGHT
TZOFFSETFROM:+0100
TZOFFSETTO:+0200
TZNAME:CEST
DTSTART:20240331T010000
END:DAYLIGHT
BEGIN:STANDARD
TZOFFSETFROM:+0200
TZOFFSETTO:+0100
TZNAME:CET
DTSTART:20241027T010000
END:STANDARD
END:VTIMEZONE
BEGIN:VEVENT
DTSTART;TZID=Europe/Rome:20241013T090000
DTEND;TZID=Europe/Rome:20241013T120000
DTSTAMP:20260421T002115
CREATED:20241001T085413Z
LAST-MODIFIED:20241001T085413Z
UID:32838-1728810000-1728820800@www.chiavariturismo.it
SUMMARY:Giornata dei Sentieri Liguri: Escursione sul Sentiero delle Grazie
DESCRIPTION:Il 13 Ottobre 2024 si terrà la Giornata dei Sentieri Liguri e per l’occasione il CAI-Sez. Chiavari organizzerà\, con il patrocinio del Comune di Chiavari\, un’escursione ad anello lungo lo straordinario Sentiero delle Grazie.\n\nIl ritrovo è alle 8.50 dal capolinea della linea del bus 704 (Corso Buenos Aires)\, la quota di partecipazione è 3\,00 €.\n\nPer info e prenotazioni: 0185-311851 o consultare www.caichiavari.it
URL:https://www.chiavariturismo.it/event/giornata-dei-sentieri-liguri-escursione-sul-sentiero-delle-grazie/
LOCATION:Genova
CATEGORIES:Visite guidate
ATTACH;FMTTYPE=image/png:https://www.chiavariturismo.it/wp-content/uploads/2024/10/Verde-Fotografico-Strappato-Composizione-Soggiorno-Montagna-Volantino2.png
END:VEVENT
BEGIN:VEVENT
DTSTART;TZID=Europe/Rome:20241019T153000
DTEND;TZID=Europe/Rome:20241020T113000
DTSTAMP:20260421T002115
CREATED:20241002T103903Z
LAST-MODIFIED:20241002T104656Z
UID:32843-1729351800-1729423800@www.chiavariturismo.it
SUMMARY:Visite Guidate Ottobre
DESCRIPTION:Sono aperte le iscrizioni per le due visite guidate previste per il mese di Ottobre:\n\nSabato 19 Ottobre alle ore 15.30- visita guidata “Città di Chiavari”\nDomenica 20 Ottobre alle ore 10.00 “Chiavari tra ‘800 e ‘900”\n\nLa prenotazione potrà essere effettuata\, fino ad esaurimento posti (max 25 persone) scrivendo a iat@comune.chiavari.ge.it oppure chiamando il numero 0185/365400.\nGli orari di apertura dello IAT sono i seguenti: dal lunedì alla domenica 10:00-13:00 con chiusura il martedì.
URL:https://www.chiavariturismo.it/event/visite-guidate-ottobre/
LOCATION:Chiavari
CATEGORIES:Visite guidate
ATTACH;FMTTYPE=image/jpeg:https://www.chiavariturismo.it/wp-content/uploads/2024/10/visite-guidate-ottobre.jpg
END:VEVENT
BEGIN:VEVENT
DTSTART;TZID=Europe/Rome:20241027T090000
DTEND;TZID=Europe/Rome:20241027T190000
DTSTAMP:20260421T002115
CREATED:20241007T142609Z
LAST-MODIFIED:20241011T112446Z
UID:32866-1730019600-1730055600@www.chiavariturismo.it
SUMMARY:Camminata tra gli Olivi- 8° Giornata Nazionale
DESCRIPTION:Il giorno 27 Ottobre 2024 si terrà l’8° Giornata Nazionale della Camminata tra gli Olivi organizzata dal Comune di Chiavari nell’ambito dell’adesione all’Associazione Nazionale Città dell’Olio.\n\n \n\nIL PROGRAMMA:\n\n\nORE 9.00 Ritrovo davanti allo IAT in Via Cittadella 1. Partenza visita guidata a due uliveti a Ri Alto percorrendo il sentiero delle 5 Torri\n\n(in caso di maltempo verrà effettuata una visita guidata della città)\n\nDALLE ORE 10.00 ALLE ORE 12.00  Arte en plein air tra gli uliveti\, in collaborazione con l’Ass. Culturale “L’Agave”\n\nPranzo Libero\n\n\n\n\nORE 14.30 Partenza pulmino (max 20 posti) da P.zza N.S dell’Orto per visita e degustazione olio all’Az. Agricola di Solari Massimo\n\nORE 18.00 Sala Consiliare del Comune di Chiavari – Incontro dedicato all’olivicoltura e premiazione del Concorso “Miglior Uliveto”\n\nDal 16 al 21 Novembre: Sala della Torre Civica – Mostra “Impronte d’Olio”\, in collaborazione con l’Ass. Culturale “L’Agave”\n\n\n\nLA PARTECIPAZIONE GRATUITA\nINFO – PRENOTAZIONI\nEntro le ore 12.00 del 25 Ottobre 2024 al numero 0185-365460
URL:https://www.chiavariturismo.it/event/camminata-tra-gli-olivi-8-giornata-nazionale/
LOCATION:Chiavari
CATEGORIES:Visite guidate
ATTACH;FMTTYPE=image/jpeg:https://www.chiavariturismo.it/wp-content/uploads/2024/10/GNCO2024_manifesto_page-0001.jpg
END:VEVENT
END:VCALENDAR