BEGIN:VCALENDAR
VERSION:2.0
PRODID:-//Portale Ufficiale del Turismo Comune di Chiavari - ECPv6.14.2//NONSGML v1.0//EN
CALSCALE:GREGORIAN
METHOD:PUBLISH
X-ORIGINAL-URL:https://www.chiavariturismo.it
X-WR-CALDESC:Eventi per Portale Ufficiale del Turismo Comune di Chiavari
REFRESH-INTERVAL;VALUE=DURATION:PT1H
X-Robots-Tag:noindex
X-PUBLISHED-TTL:PT1H
BEGIN:VTIMEZONE
TZID:Europe/Rome
BEGIN:DAYLIGHT
TZOFFSETFROM:+0100
TZOFFSETTO:+0200
TZNAME:CEST
DTSTART:20250330T010000
END:DAYLIGHT
BEGIN:STANDARD
TZOFFSETFROM:+0200
TZOFFSETTO:+0100
TZNAME:CET
DTSTART:20251026T010000
END:STANDARD
END:VTIMEZONE
BEGIN:VEVENT
DTSTART;TZID=Europe/Rome:20250712T100000
DTEND;TZID=Europe/Rome:20250712T150000
DTSTAMP:20260422T130355
CREATED:20250630T084648Z
LAST-MODIFIED:20250630T191716Z
UID:36106-1752314400-1752332400@www.chiavariturismo.it
SUMMARY:Visite Guidate di Chiavari - LUGLIO 2025
DESCRIPTION:Sabato 12/07\, Sabato 19/07 e Sabato 26/07 sono previste tre differenti Visite Guidate di Chiavari.\n\nRitrovo presso Palazzo Rocca alle ore 10:00. Prenotazione obbligatoria presso l’Ufficio IAT\, Informazione e Accoglienza Turistica (Via Costaguta\, 2 Chiavari\, GE)\, tel 0185 365400 \, iat@comune.chiavari.ge.it
URL:https://www.chiavariturismo.it/event/visite-guidate-di-chiavari-luglio-2025/
LOCATION:Palazzo Rocca\, piazza Giacomo Matteotti\, Chiavari\, Genova\, 16043\, Italia
CATEGORIES:Visite guidate
ATTACH;FMTTYPE=image/png:https://www.chiavariturismo.it/wp-content/uploads/2025/06/VISITE-GUIDATE-LUGLIO-2025-DEF.-con-logo-1.png
END:VEVENT
BEGIN:VEVENT
DTSTART;TZID=Europe/Rome:20250724T183000
DTEND;TZID=Europe/Rome:20250724T223000
DTSTAMP:20260422T130355
CREATED:20250721T143940Z
LAST-MODIFIED:20250721T145614Z
UID:36600-1753381800-1753396200@www.chiavariturismo.it
SUMMARY:Estate 2025 al Museo Archeologico Nazionale Chiavari
DESCRIPTION:Ritornano gli appuntamenti “Estate 2025 al Museo Archeologico Nazionale di Chiavari” che prevedono l’apertura straordinaria serale del museo dalle 18.00 alle 22.00:\n\n– GIOVEDI’ 24 LUGLIO: ore 18.30: lettura per bambini “Una giornata al museo” e laboratorio; ore 21.00: visita “Medioevo sotto le stelle”  che inizierà dalla  sala medievale del museo e continuerà nelle vie del centro storico accompagnati da Barbara Bernabò;\n\nL’appuntamento è previsto nella biglietteria del museo 10 minuti prima dell’evento.\n\nLa visita guidata “L’archeologa racconta” si svolge in contemporanea alle attività per bambini delle 18.30.\n\nInfo costi: intero € 3.00\, ridotto € 2.00 (18-25 anni)\, biglietto plus € 8.00\, gratuito (minori 18 anni)\nContatti: drm-lig.museochiavari@cultura.gov.it\, 0185 320829
URL:https://www.chiavariturismo.it/event/estate-2025-al-museo-archeologico-nazionale-chiavari/
LOCATION:Palazzo Rocca\, Museo Archeologico\, Chiavari\, 16043
CATEGORIES:Eventi per bambini,Visite guidate
ATTACH;FMTTYPE=image/jpeg:https://www.chiavariturismo.it/wp-content/uploads/2025/07/estate-2025_locandina_page-0001.jpg
END:VEVENT
END:VCALENDAR