BEGIN:VCALENDAR
VERSION:2.0
PRODID:-//Portale Ufficiale del Turismo Comune di Chiavari - ECPv6.14.2//NONSGML v1.0//EN
CALSCALE:GREGORIAN
METHOD:PUBLISH
X-WR-CALNAME:Portale Ufficiale del Turismo Comune di Chiavari
X-ORIGINAL-URL:https://www.chiavariturismo.it
X-WR-CALDESC:Eventi per Portale Ufficiale del Turismo Comune di Chiavari
REFRESH-INTERVAL;VALUE=DURATION:PT1H
X-Robots-Tag:noindex
X-PUBLISHED-TTL:PT1H
BEGIN:VTIMEZONE
TZID:Europe/Rome
BEGIN:DAYLIGHT
TZOFFSETFROM:+0100
TZOFFSETTO:+0200
TZNAME:CEST
DTSTART:20250330T010000
END:DAYLIGHT
BEGIN:STANDARD
TZOFFSETFROM:+0200
TZOFFSETTO:+0100
TZNAME:CET
DTSTART:20251026T010000
END:STANDARD
END:VTIMEZONE
BEGIN:VEVENT
DTSTART;TZID=Europe/Rome:20250802T100000
DTEND;TZID=Europe/Rome:20250802T120000
DTSTAMP:20260424T122806
CREATED:20250630T085105Z
LAST-MODIFIED:20250728T064450Z
UID:36115-1754128800-1754136000@www.chiavariturismo.it
SUMMARY:Visite Guidate di Chiavari – AGOSTO 2025
DESCRIPTION:Sabato 2 e sabato 9 agosto sono previste due Visite Guidate di Chiavari con ritrovo alle ore 10.00 nell’atrio di Palazzo Rocca.\n\nLa visita guidata del 2 agosto riguarderà luoghi particolari legati al periodo napoleonico a Chiavari\, in occasione del 220 anni dall’inizio della dominazione francese in Liguria (giugno 1805). Tale visita prevede comprende anche la mostra “Chiavari napoleonica” nella Sala Archivi della Società Economica\, nella quale sono esposti autografi di Napoleone Bonaparte e la pergamena di concessione a Chiavari dello stemma cittadino (in uso ancora oggi).\n\nPrenotazione obbligatoria presso l’Ufficio IAT\, Informazione e Accoglienza Turistica (Via Costaguta\, 2 Chiavari\, GE)\, tel 0185 365400\, iat@comune.chiavari.ge.it
URL:https://www.chiavariturismo.it/event/visite-guidate-di-chiavari-luglio-2025-2/
LOCATION:Palazzo Rocca\, piazza Giacomo Matteotti\, Chiavari\, Genova\, 16043\, Italia
CATEGORIES:Visite guidate
ATTACH;FMTTYPE=image/png:https://www.chiavariturismo.it/wp-content/uploads/2025/06/VISITE-GUIDATE-AGOSTO-2025-1.png
END:VEVENT
BEGIN:VEVENT
DTSTART;TZID=Europe/Rome:20250807T183000
DTEND;TZID=Europe/Rome:20250807T220000
DTSTAMP:20260424T122806
CREATED:20250721T145826Z
LAST-MODIFIED:20250721T145826Z
UID:36614-1754591400-1754604000@www.chiavariturismo.it
SUMMARY:Estate 2025 al Museo Archeologico Nazionale Chiavari
DESCRIPTION:Ritornano gli appuntamenti “Estate 2025 al Museo Archeologico Nazionale di Chiavari” che prevedono l’apertura straordinaria serale del museo dalle 18.00 alle 22.00:\n\n– GIOVEDI’ 7 AGOSTO: ore 18.30: lettura per bambini “Medievalmania!” e laboratorio; ore 21.00: visita “Medioevo sotto le stelle”  che inizierà dalla  sala medievale del museo e continuerà nelle vie del centro storico accompagnati da Barbara Bernabò;\n\nL’appuntamento è previsto nella biglietteria del museo 10 minuti prima dell’evento.\n\nLa visita guidata “L’archeologa racconta” si svolge in contemporanea alle attività per bambini delle 18.30.\n\nInfo costi: intero € 3.00\, ridotto € 2.00 (18-25 anni)\, biglietto plus € 8.00\, gratuito (minori 18 anni)\nContatti: drm-lig.museochiavari@cultura.gov.it\, 0185 320829
URL:https://www.chiavariturismo.it/event/estate-2025-al-museo-archeologico-nazionale-chiavari-2/
LOCATION:Palazzo Rocca\, Museo Archeologico\, Chiavari\, 16043
CATEGORIES:Eventi per bambini,Visite guidate
ATTACH;FMTTYPE=image/jpeg:https://www.chiavariturismo.it/wp-content/uploads/2025/07/estate-2025_locandina_page-0001.jpg
END:VEVENT
BEGIN:VEVENT
DTSTART;TZID=Europe/Rome:20250809T100000
DTEND;TZID=Europe/Rome:20250809T120000
DTSTAMP:20260424T122806
CREATED:20250630T085422Z
LAST-MODIFIED:20250728T065053Z
UID:36121-1754733600-1754740800@www.chiavariturismo.it
SUMMARY:Visite Guidate di Chiavari – AGOSTO 2025
DESCRIPTION:Sabato 9 agosto proseguono le visite guidate di Chiavari\, con ritrovo nell’atrio di Palazzo Rocca alle ore 10:00.\n\nL’ultima visita guidata del mese di agosto è dedicata alla scoperta del verde in città\, un percorso sorprendente\, pensato per chi desidera conoscere il lato più naturale e sostenibile del tessuto cittadino.\n\nPrenotazione obbligatoria presso l’Ufficio IAT\, Informazione e Accoglienza Turistica (Via Costaguta\, 2 Chiavari\, GE)\, tel 0185 365400 \, iat@comune.chiavari.ge.it
URL:https://www.chiavariturismo.it/event/visite-guidate-di-chiavari-luglio-2025-3/
LOCATION:Palazzo Rocca\, piazza Giacomo Matteotti\, Chiavari\, Genova\, 16043\, Italia
CATEGORIES:Visite guidate
ATTACH;FMTTYPE=image/png:https://www.chiavariturismo.it/wp-content/uploads/2025/06/VISITE-GUIDATE-AGOSTO-2025-1.png
END:VEVENT
BEGIN:VEVENT
DTSTART;TZID=Europe/Rome:20250823T183000
DTEND;TZID=Europe/Rome:20250823T203000
DTSTAMP:20260424T122806
CREATED:20250721T150055Z
LAST-MODIFIED:20250826T084959Z
UID:36615-1755973800-1755981000@www.chiavariturismo.it
SUMMARY:Estate 2025 al Museo Archeologico Nazionale Chiavari
DESCRIPTION:Ritornano gli appuntamenti “Estate 2025 al Museo Archeologico Nazionale di Chiavari” che prevedono l’apertura straordinaria serale del museo dalle 18.00 alle 22.00:\n\n– SABATO 23 AGOSTO: ore 18.30: lettura per bambini “La Grotta degli animali danzanti” e laboratorio.\n\nL’appuntamento è previsto nella biglietteria del museo 10 minuti prima dell’evento.\n\nLa visita guidata “L’archeologa racconta” si svolge in contemporanea alle attività per bambini delle 18.30.\n\nInfo costi: intero € 3.00\, ridotto € 2.00 (18-25 anni)\, biglietto plus € 8.00\, gratuito (minori 18 anni)\nContatti: drm-lig.museochiavari@cultura.gov.it\, 0185 320829
URL:https://www.chiavariturismo.it/event/estate-2025-al-museo-archeologico-nazionale-chiavari-3/
LOCATION:Palazzo Rocca\, Museo Archeologico\, Chiavari\, 16043
CATEGORIES:Eventi per bambini,Visite guidate
ATTACH;FMTTYPE=image/jpeg:https://www.chiavariturismo.it/wp-content/uploads/2025/07/estate-2025_locandina_page-0001.jpg
END:VEVENT
END:VCALENDAR