BEGIN:VCALENDAR
VERSION:2.0
PRODID:-//Portale Ufficiale del Turismo Comune di Chiavari - ECPv6.14.2//NONSGML v1.0//EN
CALSCALE:GREGORIAN
METHOD:PUBLISH
X-ORIGINAL-URL:https://www.chiavariturismo.it
X-WR-CALDESC:Eventi per Portale Ufficiale del Turismo Comune di Chiavari
REFRESH-INTERVAL;VALUE=DURATION:PT1H
X-Robots-Tag:noindex
X-PUBLISHED-TTL:PT1H
BEGIN:VTIMEZONE
TZID:Europe/Rome
BEGIN:DAYLIGHT
TZOFFSETFROM:+0100
TZOFFSETTO:+0200
TZNAME:CEST
DTSTART:20250330T010000
END:DAYLIGHT
BEGIN:STANDARD
TZOFFSETFROM:+0200
TZOFFSETTO:+0100
TZNAME:CET
DTSTART:20251026T010000
END:STANDARD
BEGIN:DAYLIGHT
TZOFFSETFROM:+0100
TZOFFSETTO:+0200
TZNAME:CEST
DTSTART:20260329T010000
END:DAYLIGHT
BEGIN:STANDARD
TZOFFSETFROM:+0200
TZOFFSETTO:+0100
TZNAME:CET
DTSTART:20261025T010000
END:STANDARD
END:VTIMEZONE
BEGIN:VEVENT
DTSTART;TZID=Europe/Rome:20251026T090000
DTEND;TZID=Europe/Rome:20251026T180000
DTSTAMP:20260423T133640
CREATED:20251016T120040Z
LAST-MODIFIED:20251016T120755Z
UID:37313-1761469200-1761501600@www.chiavariturismo.it
SUMMARY:Camminata tra gli olivi
DESCRIPTION:Il giorno 26 Ottobre si terrà la 9° Giornata Nazionale della Camminata tra gli Olivi organizzata dal Comune di Chiavari nell’ambito dell’adesione all’Associazione Nazionale Città dell’Olio.\nPROGRAMMA\n\n– ORE 9.00 Partenza visita guidata a due uliveti a Ri Alto percorrendo il sentiero delle 5 Torri (in caso di maltempo verrà effettuata una visita guidata della città)\n– Pranzo Libero\n– ORE 15.00 Partenza pulmino (max 20 posti) da P.zza N.S dell’Orto per visita e degustazione olio all’Az. Agricola di Solari Massimo\n\n\nPARTECIPAZIONE GRATUITA\nINFO – PRENOTAZIONI\nEntro le ore 12.00 del 24 Ottobre 2025 al numero 0185365460\n@camminatatragliolivi  –   www.camminatatragliolivi.it\nLink Camminata Tra gli olivi
URL:https://www.chiavariturismo.it/event/camminata-tra-gli-olivi/
LOCATION:Piazza Nostra Signora dell’Orto\, Piazza Nostra Signora dell'Orto\, Chiavari\, Genova\, 16043\, Italia
CATEGORIES:Visite guidate
ATTACH;FMTTYPE=image/jpeg:https://www.chiavariturismo.it/wp-content/uploads/2025/10/GNCO2025_manifesto2.jpg
END:VEVENT
BEGIN:VEVENT
DTSTART;TZID=Europe/Rome:20260502T100000
DTEND;TZID=Europe/Rome:20260523T110000
DTSTAMP:20260423T133640
CREATED:20260423T103613Z
LAST-MODIFIED:20260423T103613Z
UID:38181-1777716000-1779534000@www.chiavariturismo.it
SUMMARY:Visite guidate di Chiavari
DESCRIPTION:Il Comune di Chiavari e l’Ufficio IAT organizzano per il mese di maggio due appuntamenti che offrono l’occasione di visitare la città.\n\nSabato 2 maggio alle ore 10:00 – “Chiavari: verde in città”;\n\nSabato 23 maggio alle ore 10:00 – “Visita della città”.\n\nIl punto di ritrovo si trova a Palazzo Rocca.\n\nPrenotazione obbligatoria presso l’ufficio IAT sito in via Costaguta 2 (tel. 0185365400 oppure via email: iat@comune.chiavari.ge.it).
URL:https://www.chiavariturismo.it/event/visite-guidate-di-chiavari-5/
LOCATION:Centro cittadino
CATEGORIES:Visite guidate
ATTACH;FMTTYPE=image/png:https://www.chiavariturismo.it/wp-content/uploads/2026/04/VISITE-GUIDATE-MAGGIO-2026-.png
END:VEVENT
END:VCALENDAR