BEGIN:VCALENDAR
VERSION:2.0
PRODID:-//Portale Ufficiale del Turismo Comune di Chiavari - ECPv6.14.2//NONSGML v1.0//EN
CALSCALE:GREGORIAN
METHOD:PUBLISH
X-ORIGINAL-URL:https://www.chiavariturismo.it
X-WR-CALDESC:Eventi per Portale Ufficiale del Turismo Comune di Chiavari
REFRESH-INTERVAL;VALUE=DURATION:PT1H
X-Robots-Tag:noindex
X-PUBLISHED-TTL:PT1H
BEGIN:VTIMEZONE
TZID:Europe/Rome
BEGIN:DAYLIGHT
TZOFFSETFROM:+0100
TZOFFSETTO:+0200
TZNAME:CEST
DTSTART:20240331T010000
END:DAYLIGHT
BEGIN:STANDARD
TZOFFSETFROM:+0200
TZOFFSETTO:+0100
TZNAME:CET
DTSTART:20241027T010000
END:STANDARD
END:VTIMEZONE
BEGIN:VEVENT
DTSTART;TZID=Europe/Rome:20240618T080000
DTEND;TZID=Europe/Rome:20240929T170000
DTSTAMP:20260421T035215
CREATED:20240618T132403Z
LAST-MODIFIED:20240618T132502Z
UID:32316-1718697600-1727629200@www.chiavariturismo.it
SUMMARY:Estate 2024. Brochure eventi.
DESCRIPTION:Estate 2024 a Chiavari. Un calendario degli eventi estivi ricco e variegato che animerà la città dei portici per tutta la stagione. Diverse le proposte tra arte e musica\, tradizione e magia\, sport e divertimento. Ad organizzare\, e coordinare\, le manifestazioni l’assessorato alla Promozione della città e l’assessorato alla Cultura.\n\n 
URL:https://www.chiavariturismo.it/event/estate-2024-brochure-eventi/
LOCATION:Chiavari
CATEGORIES:Concerti,Divertimento,Eventi per bambini,Fiere/Mercatini,MOSTRA,Teatro,Visite guidate
ATTACH;FMTTYPE=image/png:https://www.chiavariturismo.it/wp-content/uploads/2024/06/Screenshot-2024-06-18-alle-15.23.17.png
END:VEVENT
BEGIN:VEVENT
DTSTART;TZID=Europe/Rome:20240914T100000
DTEND;TZID=Europe/Rome:20240914T120000
DTSTAMP:20260421T035215
CREATED:20240905T084435Z
LAST-MODIFIED:20240905T085348Z
UID:32761-1726308000-1726315200@www.chiavariturismo.it
SUMMARY:Visite guidate gratuite organizzate dall'Ufficio Iat
DESCRIPTION:Sabato 14 settembre ore 10:00 – Visita guidata gratuita “Città di Chiavari”\n\n \n\nPrenotazione obbligatoria al numero 0185 365400 oppure via mail a iat@comune.chiavari.ge.it
URL:https://www.chiavariturismo.it/event/visite-guidate-gratuite-organizzate-dallufficio-iat-del-comune-di-chiavari/
LOCATION:Genova
CATEGORIES:Visite guidate
ATTACH;FMTTYPE=image/png:https://www.chiavariturismo.it/wp-content/uploads/2024/09/foto-visite-guidate.png
END:VEVENT
END:VCALENDAR