BEGIN:VCALENDAR
VERSION:2.0
PRODID:-//Portale Ufficiale del Turismo Comune di Chiavari - ECPv6.14.2//NONSGML v1.0//EN
CALSCALE:GREGORIAN
METHOD:PUBLISH
X-WR-CALNAME:Portale Ufficiale del Turismo Comune di Chiavari
X-ORIGINAL-URL:https://www.chiavariturismo.it
X-WR-CALDESC:Eventi per Portale Ufficiale del Turismo Comune di Chiavari
REFRESH-INTERVAL;VALUE=DURATION:PT1H
X-Robots-Tag:noindex
X-PUBLISHED-TTL:PT1H
BEGIN:VTIMEZONE
TZID:Europe/Rome
BEGIN:DAYLIGHT
TZOFFSETFROM:+0100
TZOFFSETTO:+0200
TZNAME:CEST
DTSTART:20240331T010000
END:DAYLIGHT
BEGIN:STANDARD
TZOFFSETFROM:+0200
TZOFFSETTO:+0100
TZNAME:CET
DTSTART:20241027T010000
END:STANDARD
END:VTIMEZONE
BEGIN:VEVENT
DTSTART;TZID=Europe/Rome:20241027T090000
DTEND;TZID=Europe/Rome:20241027T190000
DTSTAMP:20260421T020626
CREATED:20241007T142609Z
LAST-MODIFIED:20241011T112446Z
UID:32866-1730019600-1730055600@www.chiavariturismo.it
SUMMARY:Camminata tra gli Olivi- 8° Giornata Nazionale
DESCRIPTION:Il giorno 27 Ottobre 2024 si terrà l’8° Giornata Nazionale della Camminata tra gli Olivi organizzata dal Comune di Chiavari nell’ambito dell’adesione all’Associazione Nazionale Città dell’Olio.\n\n \n\nIL PROGRAMMA:\n\n\nORE 9.00 Ritrovo davanti allo IAT in Via Cittadella 1. Partenza visita guidata a due uliveti a Ri Alto percorrendo il sentiero delle 5 Torri\n\n(in caso di maltempo verrà effettuata una visita guidata della città)\n\nDALLE ORE 10.00 ALLE ORE 12.00  Arte en plein air tra gli uliveti\, in collaborazione con l’Ass. Culturale “L’Agave”\n\nPranzo Libero\n\n\n\n\nORE 14.30 Partenza pulmino (max 20 posti) da P.zza N.S dell’Orto per visita e degustazione olio all’Az. Agricola di Solari Massimo\n\nORE 18.00 Sala Consiliare del Comune di Chiavari – Incontro dedicato all’olivicoltura e premiazione del Concorso “Miglior Uliveto”\n\nDal 16 al 21 Novembre: Sala della Torre Civica – Mostra “Impronte d’Olio”\, in collaborazione con l’Ass. Culturale “L’Agave”\n\n\n\nLA PARTECIPAZIONE GRATUITA\nINFO – PRENOTAZIONI\nEntro le ore 12.00 del 25 Ottobre 2024 al numero 0185-365460
URL:https://www.chiavariturismo.it/event/camminata-tra-gli-olivi-8-giornata-nazionale/
LOCATION:Chiavari
CATEGORIES:Visite guidate
ATTACH;FMTTYPE=image/jpeg:https://www.chiavariturismo.it/wp-content/uploads/2024/10/GNCO2024_manifesto_page-0001.jpg
END:VEVENT
END:VCALENDAR