BEGIN:VCALENDAR
VERSION:2.0
PRODID:-//Portale Ufficiale del Turismo Comune di Chiavari - ECPv6.14.2//NONSGML v1.0//EN
CALSCALE:GREGORIAN
METHOD:PUBLISH
X-ORIGINAL-URL:https://www.chiavariturismo.it
X-WR-CALDESC:Eventi per Portale Ufficiale del Turismo Comune di Chiavari
REFRESH-INTERVAL;VALUE=DURATION:PT1H
X-Robots-Tag:noindex
X-PUBLISHED-TTL:PT1H
BEGIN:VTIMEZONE
TZID:Europe/Rome
BEGIN:DAYLIGHT
TZOFFSETFROM:+0100
TZOFFSETTO:+0200
TZNAME:CEST
DTSTART:20250330T010000
END:DAYLIGHT
BEGIN:STANDARD
TZOFFSETFROM:+0200
TZOFFSETTO:+0100
TZNAME:CET
DTSTART:20251026T010000
END:STANDARD
END:VTIMEZONE
BEGIN:VEVENT
DTSTART;TZID=Europe/Rome:20250131T160000
DTEND;TZID=Europe/Rome:20250131T183000
DTSTAMP:20260420T185808
CREATED:20250122T094344Z
LAST-MODIFIED:20250122T101633Z
UID:34212-1738339200-1738348200@www.chiavariturismo.it
SUMMARY:PALAZZO ROCCA A CHIAVARI Studi e Restauri
DESCRIPTION:Venerdì 31 gennaio sono previsti due importanti appuntamenti dedicati a Palazzo Rocca:\n\nOre 16.00: Visita guidata a Palazzo Rocca a cura di Barbara Bernabò e Caterina Olcese. Accompagnamento musicale di Yesenia Vicentini\, violino e viola.\n\nOre 17.00: Auditorium San Francesco – Presentazione del Volume “Palazzo Rocca a Chiavari – Studi e Restauri”.\n\nSaluti delle Autorità.\n\nProf. Riccardo della Negra\, Università degli Studi di Ferrara\n\nProf. Francesca Mazzino\, Università degli Studi di Genova\n\nArch. Cristina Pastor\, SEBAP – curatrice del volume\n\nIl volume raccoglie contributi che delineano le attività intraprese dalla Soprintendenza Archeologia\, Belle Arti e Paesaggio per la città metropolitana di Genova e la provincia di La Spezia\, in sinergia con il Comune di Chiavari\, per il restauro di Palazzo Rocca (secc. XVI-XX secolo): la storia dell’edificio e del Parco \, l’analisi del complesso dal punto di vista artistico\, architettonico e urbanistico ed il recente intervento di restauro.
URL:https://www.chiavariturismo.it/event/palazzo-rocca-a-chiavari-studi-e-restauri/
LOCATION:Auditorium San Francesco\, Via Entella\, 7\, Chiavari\, 16043\, Italia
CATEGORIES:Visite guidate
ATTACH;FMTTYPE=image/png:https://www.chiavariturismo.it/wp-content/uploads/2025/01/Locandina-presentazione-volume-Palazzo-Rocca.png
END:VEVENT
END:VCALENDAR